BEGIN:VCALENDAR
VERSION:2.0
PRODID:-//Northern Moraine Wastewater Reclamation District - ECPv6.15.18//NONSGML v1.0//EN
CALSCALE:GREGORIAN
METHOD:PUBLISH
X-WR-CALNAME:Northern Moraine Wastewater Reclamation District
X-ORIGINAL-URL:https://www.nmwrd.org
X-WR-CALDESC:Events for Northern Moraine Wastewater Reclamation District
REFRESH-INTERVAL;VALUE=DURATION:PT1H
X-Robots-Tag:noindex
X-PUBLISHED-TTL:PT1H
BEGIN:VTIMEZONE
TZID:America/Chicago
BEGIN:DAYLIGHT
TZOFFSETFROM:-0600
TZOFFSETTO:-0500
TZNAME:CDT
DTSTART:20240310T080000
END:DAYLIGHT
BEGIN:STANDARD
TZOFFSETFROM:-0500
TZOFFSETTO:-0600
TZNAME:CST
DTSTART:20241103T070000
END:STANDARD
BEGIN:DAYLIGHT
TZOFFSETFROM:-0600
TZOFFSETTO:-0500
TZNAME:CDT
DTSTART:20250309T080000
END:DAYLIGHT
BEGIN:STANDARD
TZOFFSETFROM:-0500
TZOFFSETTO:-0600
TZNAME:CST
DTSTART:20251102T070000
END:STANDARD
BEGIN:DAYLIGHT
TZOFFSETFROM:-0600
TZOFFSETTO:-0500
TZNAME:CDT
DTSTART:20260308T080000
END:DAYLIGHT
BEGIN:STANDARD
TZOFFSETFROM:-0500
TZOFFSETTO:-0600
TZNAME:CST
DTSTART:20261101T070000
END:STANDARD
END:VTIMEZONE
BEGIN:VEVENT
DTSTART;VALUE=DATE:20250401
DTEND;VALUE=DATE:20250402
DTSTAMP:20260423T055500
CREATED:20241212T153130Z
LAST-MODIFIED:20241212T153130Z
UID:3536-1743465600-1743551999@www.nmwrd.org
SUMMARY:Sewer Bills Mailed
DESCRIPTION:
URL:https://www.nmwrd.org/event/sewer-bills-mailed-47/
END:VEVENT
BEGIN:VEVENT
DTSTART;TZID=America/Chicago:20250414T193000
DTEND;TZID=America/Chicago:20250414T210000
DTSTAMP:20260423T055500
CREATED:20241212T150157Z
LAST-MODIFIED:20241212T150157Z
UID:3517-1744659000-1744664400@www.nmwrd.org
SUMMARY:Board Meeting - April
DESCRIPTION:Northern Moraine Wastewater Reclamation District’s April Board of Trustees monthly meeting.
URL:https://www.nmwrd.org/event/board-meeting-april-6/
END:VEVENT
BEGIN:VEVENT
DTSTART;VALUE=DATE:20250422
DTEND;VALUE=DATE:20250423
DTSTAMP:20260423T055500
CREATED:20241212T152544Z
LAST-MODIFIED:20241212T152544Z
UID:3529-1745280000-1745366399@www.nmwrd.org
SUMMARY:Sewer Bills Due
DESCRIPTION:
URL:https://www.nmwrd.org/event/sewer-bills-due-47/
END:VEVENT
END:VCALENDAR